BEGIN:VCALENDAR
VERSION:2.0
PRODID:-//Yeshe Khorlo USA - ECPv6.15.20//NONSGML v1.0//EN
CALSCALE:GREGORIAN
METHOD:PUBLISH
X-ORIGINAL-URL:https://yeshekhorlousa.org
X-WR-CALDESC:Events for Yeshe Khorlo USA
REFRESH-INTERVAL;VALUE=DURATION:PT1H
X-Robots-Tag:noindex
X-PUBLISHED-TTL:PT1H
BEGIN:VTIMEZONE
TZID:UTC
BEGIN:STANDARD
TZOFFSETFROM:+0000
TZOFFSETTO:+0000
TZNAME:UTC
DTSTART:20240101T000000
END:STANDARD
END:VTIMEZONE
BEGIN:VEVENT
DTSTART;TZID=UTC:20250720T180000
DTEND;TZID=UTC:20250720T200000
DTSTAMP:20260424T074023
CREATED:20240211T022357Z
LAST-MODIFIED:20250718T143911Z
UID:2875-1753034400-1753041600@yeshekhorlousa.org
SUMMARY:Dakini Tsok
DESCRIPTION:Dakini Tsok is always offered and celebrated on the 25th day of each lunar month in Vajrayana Buddhist traditions\, celebrating the feminine energy of wisdom\, and is a commitment for Yoga Tantra practitioners — especially sacred for practitioners of Vajrayogini. Devoted Buddhists will celebrate with a Tsok\, a feast including food\, singing\, a group (or single) sadhana full of sound and celebration.
URL:https://yeshekhorlousa.org/event/dakini-tsok/
LOCATION:Chöying Dzong\, 2281-A Happy Day OL\, Crestone\, CO\, 81131\, United States
CATEGORIES:Crestone Events,Dakini Tsok
ATTACH;FMTTYPE=image/jpeg:https://yeshekhorlousa.org/wp-content/uploads/2024/01/KuruKulle_close.jpg
END:VEVENT
END:VCALENDAR