BEGIN:VCALENDAR
VERSION:2.0
PRODID:-//Yeshe Khorlo USA - ECPv6.15.20//NONSGML v1.0//EN
CALSCALE:GREGORIAN
METHOD:PUBLISH
X-WR-CALNAME:Yeshe Khorlo USA
X-ORIGINAL-URL:https://yeshekhorlousa.org
X-WR-CALDESC:Events for Yeshe Khorlo USA
REFRESH-INTERVAL;VALUE=DURATION:PT1H
X-Robots-Tag:noindex
X-PUBLISHED-TTL:PT1H
BEGIN:VTIMEZONE
TZID:UTC
BEGIN:STANDARD
TZOFFSETFROM:+0000
TZOFFSETTO:+0000
TZNAME:UTC
DTSTART:20240101T000000
END:STANDARD
END:VTIMEZONE
BEGIN:VEVENT
DTSTART;TZID=UTC:20251119T180000
DTEND;TZID=UTC:20251119T193000
DTSTAMP:20260424T014927
CREATED:20251104T191215Z
LAST-MODIFIED:20251104T191215Z
UID:4144-1763575200-1763580600@yeshekhorlousa.org
SUMMARY:Dzogchen Ngöndro Practice
DESCRIPTION:Students practicing the Kunzang Gongdu Ngöndro are welcome to join us for group practice each week. If you would like to receive the lung for this Dzogchen ngöndro from Khenchen Wangchuk\, please contact the temple. \nCompleting the requisite 10\,000 accumulations of each section of the Kunzang Gongdu ngöndro will allow students to receive instruction in Dzogchen meditation\, including trekchö and tögyal\, from H. H. Gangteng Tulku Rinpoche.
URL:https://yeshekhorlousa.org/event/dzogchen-ngondro-practice-3/
LOCATION:Chöying Dzong\, 2281-A Happy Day OL\, Crestone\, CO\, 81131\, United States
CATEGORIES:Gangteng Tulku Rinpoche
ATTACH;FMTTYPE=image/jpeg:https://yeshekhorlousa.org/wp-content/uploads/2024/10/016.jpg
END:VEVENT
END:VCALENDAR