BEGIN:VCALENDAR
VERSION:2.0
PRODID:-//Yeshe Khorlo USA - ECPv6.15.20//NONSGML v1.0//EN
CALSCALE:GREGORIAN
METHOD:PUBLISH
X-WR-CALNAME:Yeshe Khorlo USA
X-ORIGINAL-URL:https://yeshekhorlousa.org
X-WR-CALDESC:Events for Yeshe Khorlo USA
REFRESH-INTERVAL;VALUE=DURATION:PT1H
X-Robots-Tag:noindex
X-PUBLISHED-TTL:PT1H
BEGIN:VTIMEZONE
TZID:UTC
BEGIN:STANDARD
TZOFFSETFROM:+0000
TZOFFSETTO:+0000
TZNAME:UTC
DTSTART:20240101T000000
END:STANDARD
END:VTIMEZONE
BEGIN:VEVENT
DTSTART;TZID=UTC:20251130T180000
DTEND;TZID=UTC:20251130T200000
DTSTAMP:20260424T001304
CREATED:20251104T183834Z
LAST-MODIFIED:20251104T183834Z
UID:4121-1764525600-1764532800@yeshekhorlousa.org
SUMMARY:Guru Tsok
DESCRIPTION:Celebrate Guru Day with us on the 10th day of the lunar month with a Vajrayana tsok feast\, including food\, singing\, and a group sadhana full of sound and celebration\, in honor of Guru Rinpoche. Please bring food or beverage to share.
URL:https://yeshekhorlousa.org/event/guru-tsok/
LOCATION:Chöying Dzong\, 2281-A Happy Day OL\, Crestone\, CO\, 81131\, United States
CATEGORIES:Guru Rinpoche Tsok
ATTACH;FMTTYPE=image/jpeg:https://yeshekhorlousa.org/wp-content/uploads/2024/02/399871513_1247069002798061_829344591077209824_n.jpg
END:VEVENT
END:VCALENDAR