BEGIN:VCALENDAR
VERSION:2.0
PRODID:-//Yeshe Khorlo USA - ECPv6.15.20//NONSGML v1.0//EN
CALSCALE:GREGORIAN
METHOD:PUBLISH
X-ORIGINAL-URL:https://yeshekhorlousa.org
X-WR-CALDESC:Events for Yeshe Khorlo USA
REFRESH-INTERVAL;VALUE=DURATION:PT1H
X-Robots-Tag:noindex
X-PUBLISHED-TTL:PT1H
BEGIN:VTIMEZONE
TZID:UTC
BEGIN:STANDARD
TZOFFSETFROM:+0000
TZOFFSETTO:+0000
TZNAME:UTC
DTSTART:20240101T000000
END:STANDARD
END:VTIMEZONE
BEGIN:VEVENT
DTSTART;TZID=UTC:20251129T100000
DTEND;TZID=UTC:20251129T113000
DTSTAMP:20260423T211128
CREATED:20251106T012301Z
LAST-MODIFIED:20251106T012301Z
UID:4152-1764410400-1764415800@yeshekhorlousa.org
SUMMARY:Chöd Practice
DESCRIPTION:Join us in learning the melodies\, drum\, and bell for Jigme Lingpa’s chöd from Khenchen Wangchuk. All are welcome to these practices\, though the lung is required. Please arrive early to receive the lung or contact the temple to schedule a time to meet with Khenchen prior to our practice days. No previous experience with chöd is necessary.
URL:https://yeshekhorlousa.org/event/chod-practice-7/
LOCATION:Chöying Dzong\, 2281-A Happy Day OL\, Crestone\, CO\, 81131\, United States
CATEGORIES:Chöd
ATTACH;FMTTYPE=image/png:https://yeshekhorlousa.org/wp-content/uploads/2025/11/468fe542-894c-6b4c-c4bb-3ae3f3620b33.png
END:VEVENT
BEGIN:VEVENT
DTSTART;TZID=UTC:20251124T180000
DTEND;TZID=UTC:20251124T193000
DTSTAMP:20260423T211128
CREATED:20251104T185651Z
LAST-MODIFIED:20251104T185651Z
UID:4136-1764007200-1764012600@yeshekhorlousa.org
SUMMARY:Chöd Practice
DESCRIPTION:Join us in learning the melodies\, drum\, and bell for Jigme Lingpa’s chöd from Khenchen Wangchuk. All are welcome to these practices\, though the lung is required. Please arrive early to receive the lung or contact the temple to schedule a time to meet with Khenchen prior to our practice days. No previous experience with chöd is necessary.
URL:https://yeshekhorlousa.org/event/chod-practice-6/
LOCATION:Chöying Dzong\, 2281-A Happy Day OL\, Crestone\, CO\, 81131\, United States
CATEGORIES:Chöd
ATTACH;FMTTYPE=image/png:https://yeshekhorlousa.org/wp-content/uploads/2025/11/468fe542-894c-6b4c-c4bb-3ae3f3620b33.png
END:VEVENT
BEGIN:VEVENT
DTSTART;TZID=UTC:20251122T100000
DTEND;TZID=UTC:20251122T113000
DTSTAMP:20260423T211128
CREATED:20251104T185319Z
LAST-MODIFIED:20251104T185319Z
UID:4134-1763805600-1763811000@yeshekhorlousa.org
SUMMARY:Chöd Practice
DESCRIPTION:Join us in learning the melodies\, drum\, and bell for Jigme Lingpa’s chöd from Khenchen Wangchuk. All are welcome to these practices\, though the lung is required. Please arrive early to receive the lung or contact the temple to schedule a time to meet with Khenchen prior to our practice days. No previous experience with chöd is necessary.
URL:https://yeshekhorlousa.org/event/chod-practice-5/
LOCATION:Chöying Dzong\, 2281-A Happy Day OL\, Crestone\, CO\, 81131\, United States
CATEGORIES:Chöd
ATTACH;FMTTYPE=image/jpeg:https://yeshekhorlousa.org/wp-content/uploads/2024/01/dorje.jpg
END:VEVENT
BEGIN:VEVENT
DTSTART;TZID=UTC:20251117T180000
DTEND;TZID=UTC:20251117T193000
DTSTAMP:20260423T211128
CREATED:20251104T185001Z
LAST-MODIFIED:20251104T185033Z
UID:4131-1763402400-1763407800@yeshekhorlousa.org
SUMMARY:Chöd Practice
DESCRIPTION:Join us in learning the melodies\, drum\, and bell for Jigme Lingpa’s chöd from Khenchen Wangchuk. All are welcome to these practices\, though the lung is required. Please arrive early to receive the lung or contact the temple to schedule a time to meet with Khenchen prior to our practice days. No previous experience with chöd is necessary.
URL:https://yeshekhorlousa.org/event/chod-practice-4/
LOCATION:Chöying Dzong\, 2281-A Happy Day OL\, Crestone\, CO\, 81131\, United States
CATEGORIES:Chöd
ATTACH;FMTTYPE=image/png:https://yeshekhorlousa.org/wp-content/uploads/2025/11/468fe542-894c-6b4c-c4bb-3ae3f3620b33.png
END:VEVENT
BEGIN:VEVENT
DTSTART;TZID=UTC:20251115T100000
DTEND;TZID=UTC:20251115T113000
DTSTAMP:20260423T211128
CREATED:20251104T184855Z
LAST-MODIFIED:20251104T184855Z
UID:4129-1763200800-1763206200@yeshekhorlousa.org
SUMMARY:Chöd Practice
DESCRIPTION:Join us in learning the melodies\, drum\, and bell for Jigme Lingpa’s chöd from Khenchen Wangchuk. All are welcome to these practices\, though the lung is required. Please arrive early to receive the lung or contact the temple to schedule a time to meet with Khenchen prior to our practice days. No previous experience with chöd is necessary.
URL:https://yeshekhorlousa.org/event/chod-practice-3/
LOCATION:Chöying Dzong\, 2281-A Happy Day OL\, Crestone\, CO\, 81131\, United States
CATEGORIES:Chöd
ATTACH;FMTTYPE=image/jpeg:https://yeshekhorlousa.org/wp-content/uploads/2024/01/dorje.jpg
END:VEVENT
BEGIN:VEVENT
DTSTART;TZID=UTC:20251110T180000
DTEND;TZID=UTC:20251110T193000
DTSTAMP:20260423T211128
CREATED:20251104T184728Z
LAST-MODIFIED:20251104T184729Z
UID:4127-1762797600-1762803000@yeshekhorlousa.org
SUMMARY:Chöd Practice
DESCRIPTION:Join us in learning the melodies\, drum\, and bell for Jigme Lingpa’s chöd from Khenchen Wangchuk. All are welcome to these practices\, though the lung is required. Please arrive early to receive the lung or contact the temple to schedule a time to meet with Khenchen prior to our practice days. No previous experience with chöd is necessary.
URL:https://yeshekhorlousa.org/event/chod-practice-2/
LOCATION:Chöying Dzong\, 2281-A Happy Day OL\, Crestone\, CO\, 81131\, United States
CATEGORIES:Chöd
ATTACH;FMTTYPE=image/jpeg:https://yeshekhorlousa.org/wp-content/uploads/2024/01/dorje.jpg
END:VEVENT
BEGIN:VEVENT
DTSTART;TZID=UTC:20251108T100000
DTEND;TZID=UTC:20251108T113000
DTSTAMP:20260423T211128
CREATED:20251104T184416Z
LAST-MODIFIED:20251104T184416Z
UID:4123-1762596000-1762601400@yeshekhorlousa.org
SUMMARY:Chöd Practice
DESCRIPTION:Join us in learning the melodies\, drum\, and bell for Jigme Lingpa’s chöd from Khenchen Wangchuk. All are welcome to these practices\, though the lung is required. Please arrive early to receive the lung or contact the temple to schedule a time to meet with Khenchen prior to our practice days. No previous experience with chöd is necessary.
URL:https://yeshekhorlousa.org/event/chod-practice/
LOCATION:Chöying Dzong\, 2281-A Happy Day OL\, Crestone\, CO\, 81131\, United States
CATEGORIES:Chöd
ATTACH;FMTTYPE=image/png:https://yeshekhorlousa.org/wp-content/uploads/2025/11/468fe542-894c-6b4c-c4bb-3ae3f3620b33.png
END:VEVENT
END:VCALENDAR