BEGIN:VCALENDAR
VERSION:2.0
PRODID:-//Yeshe Khorlo USA - ECPv6.15.20//NONSGML v1.0//EN
CALSCALE:GREGORIAN
METHOD:PUBLISH
X-WR-CALNAME:Yeshe Khorlo USA
X-ORIGINAL-URL:https://yeshekhorlousa.org
X-WR-CALDESC:Events for Yeshe Khorlo USA
REFRESH-INTERVAL;VALUE=DURATION:PT1H
X-Robots-Tag:noindex
X-PUBLISHED-TTL:PT1H
BEGIN:VTIMEZONE
TZID:UTC
BEGIN:STANDARD
TZOFFSETFROM:+0000
TZOFFSETTO:+0000
TZNAME:UTC
DTSTART:20240101T000000
END:STANDARD
END:VTIMEZONE
BEGIN:VEVENT
DTSTART;TZID=UTC:20251111T100000
DTEND;TZID=UTC:20251111T130000
DTSTAMP:20260424T075704
CREATED:20251104T182238Z
LAST-MODIFIED:20251104T182238Z
UID:4109-1762855200-1762866000@yeshekhorlousa.org
SUMMARY:Lhabab Duchen Stupa Consecration Ceremony
DESCRIPTION:Join us for Riwo Sangchö\, Tsok\, and a special ceremony to consecrate the new stupa at Chöying Dzong. We will also celebrate Lhabab Duchen\, the day the Buddha returned to the human realm after teaching his mother\, Mayadevi\, for three months in the Heaven of the Thirty-Three.
URL:https://yeshekhorlousa.org/event/lhabab-duchen-stupa-consecration-ceremony/
LOCATION:Chöying Dzong\, 2281-A Happy Day OL\, Crestone\, CO\, 81131\, United States
CATEGORIES:Crestone Events
ATTACH;FMTTYPE=image/jpeg:https://yeshekhorlousa.org/wp-content/uploads/2025/11/IMG_1484-rotated.jpg
END:VEVENT
END:VCALENDAR