BEGIN:VCALENDAR
VERSION:2.0
PRODID:-//Yeshe Khorlo USA - ECPv6.15.20//NONSGML v1.0//EN
CALSCALE:GREGORIAN
METHOD:PUBLISH
X-ORIGINAL-URL:https://yeshekhorlousa.org
X-WR-CALDESC:Events for Yeshe Khorlo USA
REFRESH-INTERVAL;VALUE=DURATION:PT1H
X-Robots-Tag:noindex
X-PUBLISHED-TTL:PT1H
BEGIN:VTIMEZONE
TZID:UTC
BEGIN:STANDARD
TZOFFSETFROM:+0000
TZOFFSETTO:+0000
TZNAME:UTC
DTSTART:20240101T000000
END:STANDARD
END:VTIMEZONE
BEGIN:VTIMEZONE
TZID:America/Denver
BEGIN:DAYLIGHT
TZOFFSETFROM:-0700
TZOFFSETTO:-0600
TZNAME:MDT
DTSTART:20240310T090000
END:DAYLIGHT
BEGIN:STANDARD
TZOFFSETFROM:-0600
TZOFFSETTO:-0700
TZNAME:MST
DTSTART:20241103T080000
END:STANDARD
BEGIN:DAYLIGHT
TZOFFSETFROM:-0700
TZOFFSETTO:-0600
TZNAME:MDT
DTSTART:20250309T090000
END:DAYLIGHT
BEGIN:STANDARD
TZOFFSETFROM:-0600
TZOFFSETTO:-0700
TZNAME:MST
DTSTART:20251102T080000
END:STANDARD
BEGIN:DAYLIGHT
TZOFFSETFROM:-0700
TZOFFSETTO:-0600
TZNAME:MDT
DTSTART:20260308T090000
END:DAYLIGHT
BEGIN:STANDARD
TZOFFSETFROM:-0600
TZOFFSETTO:-0700
TZNAME:MST
DTSTART:20261101T080000
END:STANDARD
END:VTIMEZONE
BEGIN:VTIMEZONE
TZID:America/Chicago
BEGIN:DAYLIGHT
TZOFFSETFROM:-0600
TZOFFSETTO:-0500
TZNAME:CDT
DTSTART:20240310T080000
END:DAYLIGHT
BEGIN:STANDARD
TZOFFSETFROM:-0500
TZOFFSETTO:-0600
TZNAME:CST
DTSTART:20241103T070000
END:STANDARD
BEGIN:DAYLIGHT
TZOFFSETFROM:-0600
TZOFFSETTO:-0500
TZNAME:CDT
DTSTART:20250309T080000
END:DAYLIGHT
BEGIN:STANDARD
TZOFFSETFROM:-0500
TZOFFSETTO:-0600
TZNAME:CST
DTSTART:20251102T070000
END:STANDARD
BEGIN:DAYLIGHT
TZOFFSETFROM:-0600
TZOFFSETTO:-0500
TZNAME:CDT
DTSTART:20260308T080000
END:DAYLIGHT
BEGIN:STANDARD
TZOFFSETFROM:-0500
TZOFFSETTO:-0600
TZNAME:CST
DTSTART:20261101T070000
END:STANDARD
END:VTIMEZONE
BEGIN:VEVENT
DTSTART;TZID=UTC:20251126T180000
DTEND;TZID=UTC:20251126T193000
DTSTAMP:20260423T213925
CREATED:20251104T191348Z
LAST-MODIFIED:20251104T191348Z
UID:4146-1764180000-1764185400@yeshekhorlousa.org
SUMMARY:Dzogchen Ngöndro Practice
DESCRIPTION:Students practicing the Kunzang Gongdu Ngöndro are welcome to join us for group practice each week. If you would like to receive the lung for this Dzogchen ngöndro from Khenchen Wangchuk\, please contact the temple. \nCompleting the requisite 10\,000 accumulations of each section of the Kunzang Gongdu ngöndro will allow students to receive instruction in Dzogchen meditation\, including trekchö and tögyal\, from H. H. Gangteng Tulku Rinpoche.
URL:https://yeshekhorlousa.org/event/dzogchen-ngondro-practice-4/
LOCATION:Chöying Dzong\, 2281-A Happy Day OL\, Crestone\, CO\, 81131\, United States
CATEGORIES:Gangteng Tulku Rinpoche
ATTACH;FMTTYPE=image/png:https://yeshekhorlousa.org/wp-content/uploads/2024/01/GTR_colors.png
END:VEVENT
BEGIN:VEVENT
DTSTART;TZID=UTC:20251119T180000
DTEND;TZID=UTC:20251119T193000
DTSTAMP:20260423T213925
CREATED:20251104T191215Z
LAST-MODIFIED:20251104T191215Z
UID:4144-1763575200-1763580600@yeshekhorlousa.org
SUMMARY:Dzogchen Ngöndro Practice
DESCRIPTION:Students practicing the Kunzang Gongdu Ngöndro are welcome to join us for group practice each week. If you would like to receive the lung for this Dzogchen ngöndro from Khenchen Wangchuk\, please contact the temple. \nCompleting the requisite 10\,000 accumulations of each section of the Kunzang Gongdu ngöndro will allow students to receive instruction in Dzogchen meditation\, including trekchö and tögyal\, from H. H. Gangteng Tulku Rinpoche.
URL:https://yeshekhorlousa.org/event/dzogchen-ngondro-practice-3/
LOCATION:Chöying Dzong\, 2281-A Happy Day OL\, Crestone\, CO\, 81131\, United States
CATEGORIES:Gangteng Tulku Rinpoche
ATTACH;FMTTYPE=image/jpeg:https://yeshekhorlousa.org/wp-content/uploads/2024/10/016.jpg
END:VEVENT
BEGIN:VEVENT
DTSTART;TZID=UTC:20251112T180000
DTEND;TZID=UTC:20251112T193000
DTSTAMP:20260423T213925
CREATED:20251104T191019Z
LAST-MODIFIED:20251104T191019Z
UID:4142-1762970400-1762975800@yeshekhorlousa.org
SUMMARY:Dzogchen Ngöndro Practice
DESCRIPTION:Students practicing the Kunzang Gongdu Ngöndro are welcome to join us for group practice each week. If you would like to receive the lung for this Dzogchen ngöndro from Khenchen Wangchuk\, please contact the temple. \nCompleting the requisite 10\,000 accumulations of each section of the Kunzang Gongdu ngöndro will allow students to receive instruction in Dzogchen meditation\, including trekchö and tögyal\, from H. H. Gangteng Tulku Rinpoche.
URL:https://yeshekhorlousa.org/event/dzogchen-ngondro-practice-2/
LOCATION:Chöying Dzong\, 2281-A Happy Day OL\, Crestone\, CO\, 81131\, United States
CATEGORIES:Gangteng Tulku Rinpoche
ATTACH;FMTTYPE=image/jpeg:https://yeshekhorlousa.org/wp-content/uploads/2024/10/unnamed.jpg
END:VEVENT
BEGIN:VEVENT
DTSTART;TZID=UTC:20251105T180000
DTEND;TZID=UTC:20251105T193000
DTSTAMP:20260423T213925
CREATED:20251104T190841Z
LAST-MODIFIED:20251104T190841Z
UID:4140-1762365600-1762371000@yeshekhorlousa.org
SUMMARY:Dzogchen Ngöndro Practice
DESCRIPTION:Students practicing the Kunzang Gongdu Ngöndro are welcome to join us for group practice each week. If you would like to receive the lung for this Dzogchen ngöndro from Khenchen Wangchuk\, please contact the temple. \nCompleting the requisite 10\,000 accumulations of each section of the Kunzang Gongdu ngöndro will allow students to receive instruction in Dzogchen meditation\, including trekchö and tögyal\, from H. H. Gangteng Tulku Rinpoche.
URL:https://yeshekhorlousa.org/event/dzogchen-ngondro-practice/
LOCATION:Chöying Dzong\, 2281-A Happy Day OL\, Crestone\, CO\, 81131\, United States
CATEGORIES:Gangteng Tulku Rinpoche
ATTACH;FMTTYPE=image/png:https://yeshekhorlousa.org/wp-content/uploads/2024/01/GTR_red.png
END:VEVENT
BEGIN:VEVENT
DTSTART;TZID=UTC:20250902T060000
DTEND;TZID=UTC:20250902T080000
DTSTAMP:20260423T213925
CREATED:20250830T202858Z
LAST-MODIFIED:20250830T202858Z
UID:4067-1756792800-1756800000@yeshekhorlousa.org
SUMMARY:Online Semde Teachings with Gangteng Tulku Rinpoche Part II
DESCRIPTION:We are honored to announce a continuation of our online teaching program with the second section of our Dzogchen Semde (Mind Section) series taught by H. H. Ganteng Tulku Rinpoche\, focusing on the profound practice of contemplation on the natural state of thoughts and emotions. \nThese teachings will be based on the revered commentary by Sokdokpa Lodroe Gyaltsen\, a great Dzogchen master\, and belong to the authentic long Kama lineage of Dzogchen transmission\, one of the oldest unbroken transmission lines of Dzogchen teachings. \nThe Mind Section emphasizes the direct recognition and contemplation of the natural state of awareness\, particularly in relation to the arising and dissolution of thoughts and emotions. Through Sokdokpa Lodroe Gyaltsen’s profound commentary\, practitioners will receive guidance on maintaining the view of the natural state while engaging with the dynamic display of mental phenomena. \nTeaching Schedule with Time/Date Conversions \nDay One \nSeptember 1\, 2025 7-9 PM Bangkok Time \n2-4 PM Paris Time \n8-10 PM Beijing Time \n6-8 AM Mountain Time (USA) \nDay Two \nSeptember 2\, 2025 7-9 PM Bangkok Time \n2-4 PM Paris Time \n8-10 PM Beijing Time \n6-8 AM Mountain Time (USA)\nTranslators \n\nChinese Translator: Chang Fucheng\nEnglish Translator: Andrzej Rybszleger\nRussian Translator: Nick Ahmerow\nFrench translation will be provided in recording\nGerman translation will be provided in recording\n\nCourse Fee and Registration \nOur goal is to make these precious teachings accessible to students across the world. We appreciate your generosity and welcome additional donations for Rinpoche and the translators. \nPlease make sure your payment total includes BOTH the course fee and any additional donations.  \n\n$70 for two days of teachings: Part II of Semde Series\n$50 for monastics: Part II of Semde Series\n$178 Parts I & II of Semde Teachings\n$120 Parts I & II of Semde Teachings (Reduced for Monastics)\n\nAll interested students are welcome to attend! \nRecordings of Parts I & II \nStudents who would like to register for Parts I & II of this series can pay $178 for both sections. Once your payment is confirmed\, we will email you links to the recordings. If you have already registered and paid for Part I\, you still must pay and register for Part II. \nPlease remember that these recordings are only meant for students who have registered for the class. By participating in this course\, you commit to not sharing these recordings with anyone. This includes emailing or posting course recordings anywhere online.  \nPayment and Registration \nPlease make sure you complete both payment and registration.  \n\nSubmit payment and record the transaction ID\nEnter the payment transaction ID in the registration form below\nComplete the Google registration form to receive the Zoom link and recordings\n\nPayment options \n\nCredit Card via PayPal\nhttps://www.paypal.com/ncp/payment/EJYD587NGW3HN\nPay with Zelle online transfer via phone number to Mei Crawford 626-665-9585 \n\nFor questions in English\, please contact yeshekhorlousa@gmail.com.
URL:https://yeshekhorlousa.org/event/online-semde-teachings-with-gangteng-tulku-rinpoche-part-ii-2/
LOCATION:CO
CATEGORIES:Gangteng Tulku Rinpoche
ATTACH;FMTTYPE=image/jpeg:https://yeshekhorlousa.org/wp-content/uploads/2024/10/138230788_1659766807526778_4078678225042924127_o.jpg
END:VEVENT
BEGIN:VEVENT
DTSTART;TZID=America/Denver:20250901T060000
DTEND;TZID=America/Denver:20250901T080000
DTSTAMP:20260423T213925
CREATED:20250830T202259Z
LAST-MODIFIED:20250830T202954Z
UID:4064-1756706400-1756713600@yeshekhorlousa.org
SUMMARY:Online Semde Teachings with Gangteng Tulku Rinpoche Part II
DESCRIPTION:We are honored to announce a continuation of our online teaching program with the second section of our Dzogchen Semde (Mind Section) series taught by H. H. Ganteng Tulku Rinpoche\, focusing on the profound practice of contemplation on the natural state of thoughts and emotions. \nThese teachings will be based on the revered commentary by Sokdokpa Lodroe Gyaltsen\, a great Dzogchen master\, and belong to the authentic long Kama lineage of Dzogchen transmission\, one of the oldest unbroken transmission lines of Dzogchen teachings. \nThe Mind Section emphasizes the direct recognition and contemplation of the natural state of awareness\, particularly in relation to the arising and dissolution of thoughts and emotions. Through Sokdokpa Lodroe Gyaltsen’s profound commentary\, practitioners will receive guidance on maintaining the view of the natural state while engaging with the dynamic display of mental phenomena. \nTeaching Schedule with Time/Date Conversions \nDay One \nSeptember 1\, 2025 7-9 PM Bangkok Time\n2-4 PM Paris Time\n8-10 PM Beijing Time\n6-8 AM Mountain Time (USA) \nDay Two: \nSeptember 2\, 2025 7-9 PM Bangkok Time\n2-4 PM Paris Time\n8-10 PM Beijing Time\n6-8 AM Mountain Time (USA)\n \nTranslators \n\nChinese Translator: Chang Fucheng\nEnglish Translator: Andrzej Rybszleger\nRussian Translator: Nick Ahmerow\nFrench translation will be provided in recording\nGerman translation will be provided in recording\n\nCourse Fee and Registration \nOur goal is to make these precious teachings accessible to students across the world. We appreciate your generosity and welcome additional donations for Rinpoche and the translators. \nPlease make sure your payment total includes BOTH the course fee and any additional donations.  \n\n$70 for two days of teachings: Part II of Semde Series\n$50 for monastics: Part II of Semde Series\n$178 Parts I & II of Semde Teachings\n$120 Parts I & II of Semde Teachings (Reduced for Monastics)\n\nAll interested students are welcome to attend! \nRecordings of Parts I & II \nStudents who would like to register for Parts I & II of this series can pay $178 for both sections. Once your payment is confirmed\, we will email you links to the recordings. If you have already registered and paid for Part I\, you still must pay and register for Part II. \nPlease remember that these recordings are only meant for students who have registered for the class. By participating in this course\, you commit to not sharing these recordings with anyone. This includes emailing or posting course recordings anywhere online.  \nPayment and Registration \nPlease make sure you complete both payment and registration.  \n\nSubmit payment and record the transaction ID\nEnter the payment transaction ID in the registration form below\nComplete the Google registration form to receive the Zoom link and recordings\n\nPayment options \n\nCredit Card via PayPal\nhttps://www.paypal.com/ncp/payment/EJYD587NGW3HN\nPay with Zelle online transfer via phone number to Mei Crawford 626-665-9585 \n\nFor questions in English\, please contact yeshekhorlousa@gmail.com.
URL:https://yeshekhorlousa.org/event/online-semde-teachings-with-gangteng-tulku-rinpoche-part-ii/
LOCATION:CO
CATEGORIES:Gangteng Tulku Rinpoche
ATTACH;FMTTYPE=image/jpeg:https://yeshekhorlousa.org/wp-content/uploads/2024/10/138230788_1659766807526778_4078678225042924127_o.jpg
END:VEVENT
BEGIN:VEVENT
DTSTART;TZID=America/Chicago:20250821T200000
DTEND;TZID=America/Chicago:20250821T220000
DTSTAMP:20260423T213925
CREATED:20250816T165609Z
LAST-MODIFIED:20250816T165609Z
UID:4059-1755806400-1755813600@yeshekhorlousa.org
SUMMARY:Online Teachings with Gangteng Tulku Rinpoche
DESCRIPTION:The U.S. sangha is thrilled to announce that Gangteng Tulku Rinpoche will be offering a three-day Dzogchen teaching online. All participants will have access to recordings of the teachings after the event. \nTopics: \nHow to Subdue Your Mind\nTuesday\, August 19th\, 8-10 p.m. (Mountain Time) \nHow to Transform the Five Poisons Into the Five Wisdoms\nWednesday\, August 20th\, 8-10 p.m. (Mountain Time) \nThird Topic to Be Announced\nThursday\, August 21st\, 8-10 p.m. (Mountain Time) \nTranslators \n\nChinese Translator: Chang Fucheng\nEnglish Translator: Andrzej Rybszleger\n\nCourse Fee and Registration \nOur goal is to make these precious teachings accessible to students across the world. We appreciate your generosity in supporting the dharma in a way that is appropriate for your financial situation and welcome additional donations for Rinpoche and the translators. \n\n$108 for all three days of teachings\n$70 for monks and nuns\n\nAll interested students are welcome to attend!
URL:https://yeshekhorlousa.org/event/online-teachings-with-gangteng-tulku-rinpoche-3/
LOCATION:CO
CATEGORIES:Gangteng Tulku Rinpoche
ATTACH;FMTTYPE=image/jpeg:https://yeshekhorlousa.org/wp-content/uploads/2024/10/138230788_1659766807526778_4078678225042924127_o.jpg
END:VEVENT
BEGIN:VEVENT
DTSTART;TZID=America/Chicago:20250820T200000
DTEND;TZID=America/Chicago:20250820T220000
DTSTAMP:20260423T213925
CREATED:20250816T165139Z
LAST-MODIFIED:20250816T165659Z
UID:4055-1755720000-1755727200@yeshekhorlousa.org
SUMMARY:Online Teachings with Gangteng Tulku Rinpoche
DESCRIPTION:The U.S. sangha is thrilled to announce that Gangteng Tulku Rinpoche will be offering a three-day Dzogchen teaching online. All participants will have access to recordings of the teachings after the event. \nTopics: \nHow to Subdue Your Mind\nTuesday\, August 19th\, 8-10 p.m. (Mountain Time) \nHow to Transform the Five Poisons Into the Five Wisdoms\nWednesday\, August 20th\, 8-10 p.m. (Mountain Time) \nThird Topic to Be Announced\nThursday\, August 21st\, 8-10 p.m. (Mountain Time) \nTranslators \n\nChinese Translator: Chang Fucheng\nEnglish Translator: Andrzej Rybszleger\n\nCourse Fee and Registration \nOur goal is to make these precious teachings accessible to students across the world. We appreciate your generosity in supporting the dharma in a way that is appropriate for your financial situation and welcome additional donations for Rinpoche and the translators. \n\n$108 for all three days of teachings\n$70 for monks and nuns\n\nAll interested students are welcome to attend!
URL:https://yeshekhorlousa.org/event/online-teachings-with-gangteng-tulku-rinpoche-2/
LOCATION:CO
CATEGORIES:Gangteng Tulku Rinpoche
ATTACH;FMTTYPE=image/jpeg:https://yeshekhorlousa.org/wp-content/uploads/2024/10/138230788_1659766807526778_4078678225042924127_o.jpg
END:VEVENT
BEGIN:VEVENT
DTSTART;TZID=America/Chicago:20250819T200000
DTEND;TZID=America/Chicago:20250819T220000
DTSTAMP:20260423T213925
CREATED:20250816T164738Z
LAST-MODIFIED:20250816T165639Z
UID:4053-1755633600-1755640800@yeshekhorlousa.org
SUMMARY:Online Teachings with Gangteng Tulku Rinpoche
DESCRIPTION:The U.S. sangha is thrilled to announce that Gangteng Tulku Rinpoche will be offering a three-day Dzogchen teaching online. All participants will have access to recordings of the teachings after the event. \nTopics: \nHow to Subdue Your Mind\nTuesday\, August 19th\, 8-10 p.m. (Mountain Time) \nHow to Transform the Five Poisons Into the Five Wisdoms\nWednesday\, August 20th\, 8-10 p.m. (Mountain Time) \nThird Topic to Be Announced\nThursday\, August 21st\, 8-10 p.m. (Mountain Time) \nTranslators \n\nChinese Translator: Chang Fucheng\nEnglish Translator: Andrzej Rybszleger\n\nCourse Fee and Registration \nOur goal is to make these precious teachings accessible to students across the world. We appreciate your generosity in supporting the dharma in a way that is appropriate for your financial situation and welcome additional donations for Rinpoche and the translators. \n\n$108 for all three days of teachings\n$70 for monks and nuns\n\nAll interested students are welcome to attend!
URL:https://yeshekhorlousa.org/event/online-teachings-with-gangteng-tulku-rinpoche/
LOCATION:CO
CATEGORIES:Gangteng Tulku Rinpoche
ATTACH;FMTTYPE=image/jpeg:https://yeshekhorlousa.org/wp-content/uploads/2024/10/138230788_1659766807526778_4078678225042924127_o.jpg
END:VEVENT
END:VCALENDAR