BEGIN:VCALENDAR
VERSION:2.0
PRODID:-//Yeshe Khorlo USA - ECPv6.15.20//NONSGML v1.0//EN
CALSCALE:GREGORIAN
METHOD:PUBLISH
X-WR-CALNAME:Yeshe Khorlo USA
X-ORIGINAL-URL:https://yeshekhorlousa.org
X-WR-CALDESC:Events for Yeshe Khorlo USA
REFRESH-INTERVAL;VALUE=DURATION:PT1H
X-Robots-Tag:noindex
X-PUBLISHED-TTL:PT1H
BEGIN:VTIMEZONE
TZID:America/Denver
BEGIN:DAYLIGHT
TZOFFSETFROM:-0700
TZOFFSETTO:-0600
TZNAME:MDT
DTSTART:20240310T090000
END:DAYLIGHT
BEGIN:STANDARD
TZOFFSETFROM:-0600
TZOFFSETTO:-0700
TZNAME:MST
DTSTART:20241103T080000
END:STANDARD
BEGIN:DAYLIGHT
TZOFFSETFROM:-0700
TZOFFSETTO:-0600
TZNAME:MDT
DTSTART:20250309T090000
END:DAYLIGHT
BEGIN:STANDARD
TZOFFSETFROM:-0600
TZOFFSETTO:-0700
TZNAME:MST
DTSTART:20251102T080000
END:STANDARD
BEGIN:DAYLIGHT
TZOFFSETFROM:-0700
TZOFFSETTO:-0600
TZNAME:MDT
DTSTART:20260308T090000
END:DAYLIGHT
BEGIN:STANDARD
TZOFFSETFROM:-0600
TZOFFSETTO:-0700
TZNAME:MST
DTSTART:20261101T080000
END:STANDARD
END:VTIMEZONE
BEGIN:VEVENT
DTSTART;TZID=America/Denver:20250902T180000
DTEND;TZID=America/Denver:20250902T200000
DTSTAMP:20260424T083001
CREATED:20250830T203747Z
LAST-MODIFIED:20250830T203747Z
UID:4072-1756836000-1756843200@yeshekhorlousa.org
SUMMARY:Guru Rinpoche Tsok
DESCRIPTION:Guru Tsok is offered and celebrated on the 10th day of each lunar month in Vajrayana Buddhist traditions\, honoring the guru and the practice lineage of Padmasambhava. Join us at Chöying Dzong at the Yeshe Khorlo Retreat Center for a Tsok feast\, including food\, singing\, and a group sadhana full of sound and celebration.
URL:https://yeshekhorlousa.org/event/guru-rinpoche-tsok-2/
LOCATION:Chöying Dzong\, 2281-A Happy Day OL\, Crestone\, CO\, 81131\, United States
CATEGORIES:Guru Rinpoche Tsok
ATTACH;FMTTYPE=image/jpeg:https://yeshekhorlousa.org/wp-content/uploads/2024/02/399871513_1247069002798061_829344591077209824_n.jpg
END:VEVENT
END:VCALENDAR