BEGIN:VCALENDAR
VERSION:2.0
PRODID:-//Yeshe Khorlo USA - ECPv6.15.20//NONSGML v1.0//EN
CALSCALE:GREGORIAN
METHOD:PUBLISH
X-WR-CALNAME:Yeshe Khorlo USA
X-ORIGINAL-URL:https://yeshekhorlousa.org
X-WR-CALDESC:Events for Yeshe Khorlo USA
REFRESH-INTERVAL;VALUE=DURATION:PT1H
X-Robots-Tag:noindex
X-PUBLISHED-TTL:PT1H
BEGIN:VTIMEZONE
TZID:UTC
BEGIN:STANDARD
TZOFFSETFROM:+0000
TZOFFSETTO:+0000
TZNAME:UTC
DTSTART:20240101T000000
END:STANDARD
END:VTIMEZONE
BEGIN:VEVENT
DTSTART;TZID=UTC:20250907T100000
DTEND;TZID=UTC:20250907T110000
DTSTAMP:20260424T101003
CREATED:20250830T204107Z
LAST-MODIFIED:20250830T204107Z
UID:4075-1757239200-1757242800@yeshekhorlousa.org
SUMMARY:Full Moon Riwo Sangchö
DESCRIPTION:Riwo Sangchö\, also known as the “Mountain of Burnt Offerings\,” is a profound Tantric Buddhist practice of offering fragrant smoke to purify negative energy\, remove obstacles\, cultivate generosity\, and create positive conditions for all beings.
URL:https://yeshekhorlousa.org/event/full-moon-riwo-sangcho/
LOCATION:Chöying Dzong\, 2281-A Happy Day OL\, Crestone\, CO\, 81131\, United States
CATEGORIES:Riwo Sangcho
ATTACH;FMTTYPE=image/jpeg:https://yeshekhorlousa.org/wp-content/uploads/2024/04/Riwo.jpg
END:VEVENT
END:VCALENDAR