BEGIN:VCALENDAR
VERSION:2.0
PRODID:-//Yeshe Khorlo USA - ECPv6.15.20//NONSGML v1.0//EN
CALSCALE:GREGORIAN
METHOD:PUBLISH
X-WR-CALNAME:Yeshe Khorlo USA
X-ORIGINAL-URL:https://yeshekhorlousa.org
X-WR-CALDESC:Events for Yeshe Khorlo USA
REFRESH-INTERVAL;VALUE=DURATION:PT1H
X-Robots-Tag:noindex
X-PUBLISHED-TTL:PT1H
BEGIN:VTIMEZONE
TZID:America/Chicago
BEGIN:DAYLIGHT
TZOFFSETFROM:-0600
TZOFFSETTO:-0500
TZNAME:CDT
DTSTART:20250309T080000
END:DAYLIGHT
BEGIN:STANDARD
TZOFFSETFROM:-0500
TZOFFSETTO:-0600
TZNAME:CST
DTSTART:20251102T070000
END:STANDARD
BEGIN:DAYLIGHT
TZOFFSETFROM:-0600
TZOFFSETTO:-0500
TZNAME:CDT
DTSTART:20260308T080000
END:DAYLIGHT
BEGIN:STANDARD
TZOFFSETFROM:-0500
TZOFFSETTO:-0600
TZNAME:CST
DTSTART:20261101T070000
END:STANDARD
BEGIN:DAYLIGHT
TZOFFSETFROM:-0600
TZOFFSETTO:-0500
TZNAME:CDT
DTSTART:20270314T080000
END:DAYLIGHT
BEGIN:STANDARD
TZOFFSETFROM:-0500
TZOFFSETTO:-0600
TZNAME:CST
DTSTART:20271107T070000
END:STANDARD
END:VTIMEZONE
BEGIN:VTIMEZONE
TZID:UTC
BEGIN:STANDARD
TZOFFSETFROM:+0000
TZOFFSETTO:+0000
TZNAME:UTC
DTSTART:20230101T000000
END:STANDARD
END:VTIMEZONE
BEGIN:VEVENT
DTSTART;TZID=America/Chicago:20260417T100000
DTEND;TZID=America/Chicago:20260417T120000
DTSTAMP:20260423T213809
CREATED:20260325T213409Z
LAST-MODIFIED:20260325T214124Z
UID:4189-1776420000-1776427200@yeshekhorlousa.org
SUMMARY:New Moon Riwo Sangchö & Green Tara Practice
DESCRIPTION:Riwo Sangchö\, also known as the “Mountain of Burnt Offerings\,” is a profound Tantric Buddhist practice of offering fragrant smoke to purify negative energy\, remove obstacles\, cultivate generosity\, and create positive conditions for all beings. Afterwards\, we invite you to stay for Green Tara practice. The Green Tara sadhana uses visualization and mantra to help transform fear\, build inner confidence\, and cultivate compassion for ourselves and others. For centuries\, practitioners have turned to Green Tara meditation as a way to calm the mind\, overcome obstacles\, and awaken the natural qualities of courage\, wisdom\, and care within. No prior Buddhist background is needed. All are welcome to attend.
URL:https://yeshekhorlousa.org/event/new-moon-riwo-sangcho-green-tara-practice/
CATEGORIES:Green Tara,Riwo Sangcho
ATTACH;FMTTYPE=image/jpeg:https://yeshekhorlousa.org/wp-content/uploads/2025/11/riwo-sangcho.jpg
END:VEVENT
BEGIN:VEVENT
DTSTART;TZID=America/Chicago:20260401T100000
DTEND;TZID=America/Chicago:20260401T110000
DTSTAMP:20260423T213809
CREATED:20260325T210722Z
LAST-MODIFIED:20260325T210722Z
UID:4178-1775037600-1775041200@yeshekhorlousa.org
SUMMARY:Full Moon Riwo Sangchö
DESCRIPTION:Riwo Sangchö\, also known as the “Mountain of Burnt Offerings\,” is a profound Tantric Buddhist practice of offering fragrant smoke to purify negative energy\, remove obstacles\, cultivate generosity\, and create positive conditions for all beings.
URL:https://yeshekhorlousa.org/event/full-moon-riwo-sangcho-3/
LOCATION:Chöying Dzong\, 2281-A Happy Day OL\, Crestone\, CO\, 81131\, United States
CATEGORIES:Riwo Sangcho
ATTACH;FMTTYPE=image/jpeg:https://yeshekhorlousa.org/wp-content/uploads/2025/08/riwo-sangcho.jpg
END:VEVENT
BEGIN:VEVENT
DTSTART;TZID=America/Chicago:20260318T100000
DTEND;TZID=America/Chicago:20260318T120000
DTSTAMP:20260423T213809
CREATED:20260308T171243Z
LAST-MODIFIED:20260308T171516Z
UID:4173-1773828000-1773835200@yeshekhorlousa.org
SUMMARY:New Moon Riwo Sangchö & Green Tara Practice
DESCRIPTION:Riwo Sangchö\, also known as the “Mountain of Burnt Offerings\,” is a profound Tantric Buddhist practice of offering fragrant smoke to purify negative energy\, remove obstacles\, cultivate generosity\, and create positive conditions for all beings. Afterwards\, we invite you to stay for Green Tara practice. The Green Tara sadhana uses visualization and mantra to help transform fear\, build inner confidence\, and cultivate compassion for ourselves and others. For centuries\, practitioners have turned to Green Tara meditation as a way to calm the mind\, overcome obstacles\, and awaken the natural qualities of courage\, wisdom\, and care within. No prior Buddhist background is needed. All are welcome to attend.
URL:https://yeshekhorlousa.org/event/new-moon-riwo-sangcho-and-green-tara-practice/
LOCATION:Chöying Dzong\, 2281-A Happy Day OL\, Crestone\, CO\, 81131\, United States
CATEGORIES:Green Tara,Riwo Sangcho
ATTACH;FMTTYPE=image/jpeg:https://yeshekhorlousa.org/wp-content/uploads/2025/08/riwo-sangcho.jpg
END:VEVENT
BEGIN:VEVENT
DTSTART;TZID=UTC:20251120T100000
DTEND;TZID=UTC:20251120T110000
DTSTAMP:20260423T213809
CREATED:20251104T183547Z
LAST-MODIFIED:20251104T183547Z
UID:4119-1763632800-1763636400@yeshekhorlousa.org
SUMMARY:New Moon Riwo Sangchö
DESCRIPTION:Riwo Sangchö\, also known as the “Mountain of Burnt Offerings\,” is a profound Tantric Buddhist practice of offering fragrant smoke to purify negative energy\, remove obstacles\, cultivate generosity\, and create positive conditions for all beings. All are welcome to join us for this outdoor practice.
URL:https://yeshekhorlousa.org/event/new-moon-riwo-sangcho-4/
LOCATION:Chöying Dzong\, 2281-A Happy Day OL\, Crestone\, CO\, 81131\, United States
CATEGORIES:Riwo Sangcho
ATTACH;FMTTYPE=image/jpeg:https://yeshekhorlousa.org/wp-content/uploads/2025/11/riwo-sangcho.jpg
END:VEVENT
BEGIN:VEVENT
DTSTART;TZID=UTC:20251105T100000
DTEND;TZID=UTC:20251105T110000
DTSTAMP:20260423T213809
CREATED:20251104T181953Z
LAST-MODIFIED:20251104T181953Z
UID:4106-1762336800-1762340400@yeshekhorlousa.org
SUMMARY:Full Moon Riwo Sangchö
DESCRIPTION:Riwo Sangchö\, also known as the “Mountain of Burnt Offerings\,” is a profound Tantric Buddhist practice of offering fragrant smoke to purify negative energy\, remove obstacles\, cultivate generosity\, and create positive conditions for all beings. All are welcome to join us for this outdoor practice.
URL:https://yeshekhorlousa.org/event/full-moon-riwo-sangcho-2/
LOCATION:Chöying Dzong\, 2281-A Happy Day OL\, Crestone\, CO\, 81131\, United States
CATEGORIES:Riwo Sangcho
ATTACH;FMTTYPE=image/jpeg:https://yeshekhorlousa.org/wp-content/uploads/2025/11/riwo-sangcho.jpg
END:VEVENT
BEGIN:VEVENT
DTSTART;TZID=UTC:20250921T100000
DTEND;TZID=UTC:20250921T110000
DTSTAMP:20260423T213809
CREATED:20250830T204615Z
LAST-MODIFIED:20250830T204615Z
UID:4078-1758448800-1758452400@yeshekhorlousa.org
SUMMARY:New Moon Riwo Sangchö
DESCRIPTION:Riwo Sangchö\, also known as the “Mountain of Burnt Offerings\,” is a profound Tantric Buddhist practice of offering fragrant smoke to purify negative energy\, remove obstacles\, cultivate generosity\, and create positive conditions for all beings.
URL:https://yeshekhorlousa.org/event/new-moon-riwo-sangcho-3/
LOCATION:Chöying Dzong\, 2281-A Happy Day OL\, Crestone\, CO\, 81131\, United States
CATEGORIES:Riwo Sangcho
ATTACH;FMTTYPE=image/jpeg:https://yeshekhorlousa.org/wp-content/uploads/2025/08/riwo-sangcho.jpg
END:VEVENT
BEGIN:VEVENT
DTSTART;TZID=UTC:20250907T100000
DTEND;TZID=UTC:20250907T110000
DTSTAMP:20260423T213809
CREATED:20250830T204107Z
LAST-MODIFIED:20250830T204107Z
UID:4075-1757239200-1757242800@yeshekhorlousa.org
SUMMARY:Full Moon Riwo Sangchö
DESCRIPTION:Riwo Sangchö\, also known as the “Mountain of Burnt Offerings\,” is a profound Tantric Buddhist practice of offering fragrant smoke to purify negative energy\, remove obstacles\, cultivate generosity\, and create positive conditions for all beings.
URL:https://yeshekhorlousa.org/event/full-moon-riwo-sangcho/
LOCATION:Chöying Dzong\, 2281-A Happy Day OL\, Crestone\, CO\, 81131\, United States
CATEGORIES:Riwo Sangcho
ATTACH;FMTTYPE=image/jpeg:https://yeshekhorlousa.org/wp-content/uploads/2024/04/Riwo.jpg
END:VEVENT
BEGIN:VEVENT
DTSTART;TZID=UTC:20250823T100000
DTEND;TZID=UTC:20250823T110000
DTSTAMP:20260423T213809
CREATED:20250811T225228Z
LAST-MODIFIED:20250811T225445Z
UID:4049-1755943200-1755946800@yeshekhorlousa.org
SUMMARY:New Moon Riwo Sangchö
DESCRIPTION:Riwo Sangchö\, also known as the “Mountain of Burnt Offerings\,” is a profound Tantric Buddhist practice of offering fragrant smoke to purify negative energy\, remove obstacles\, cultivate generosity\, and create positive conditions for all beings.
URL:https://yeshekhorlousa.org/event/new-moon-riwo-sangcho-2/
LOCATION:Chöying Dzong\, 2281-A Happy Day OL\, Crestone\, CO\, 81131\, United States
CATEGORIES:Riwo Sangcho
ATTACH;FMTTYPE=image/jpeg:https://yeshekhorlousa.org/wp-content/uploads/2024/04/Riwo.jpg
END:VEVENT
BEGIN:VEVENT
DTSTART;TZID=UTC:20250724T100000
DTEND;TZID=UTC:20250724T110000
DTSTAMP:20260423T213809
CREATED:20241217T003629Z
LAST-MODIFIED:20250719T200001Z
UID:3914-1753351200-1753354800@yeshekhorlousa.org
SUMMARY:New Moon Riwo Sangchö
DESCRIPTION:
URL:https://yeshekhorlousa.org/event/new-moon-riwo-sangcho/
LOCATION:Chöying Dzong\, 2281-A Happy Day OL\, Crestone\, CO\, 81131\, United States
CATEGORIES:Crestone Events,Riwo Sangcho
ATTACH;FMTTYPE=image/jpeg:https://yeshekhorlousa.org/wp-content/uploads/2024/04/Riwo.jpg
END:VEVENT
BEGIN:VEVENT
DTSTART;TZID=UTC:20240423T100000
DTEND;TZID=UTC:20240423T110000
DTSTAMP:20260423T213809
CREATED:20240417T161327Z
LAST-MODIFIED:20240417T162144Z
UID:3390-1713866400-1713870000@yeshekhorlousa.org
SUMMARY:Riwo Sangchö (Full Moon)
DESCRIPTION:This coming Tuesday April 23rd at 10am we will be hosting the Burnt Offering on the Mountainside in honor of the Full Moon.
URL:https://yeshekhorlousa.org/event/riwo-sangcho-full-moon/
LOCATION:Chöying Dzong\, 2281-A Happy Day OL\, Crestone\, CO\, 81131\, United States
CATEGORIES:Crestone Events,Riwo Sangcho
ATTACH;FMTTYPE=image/jpeg:https://yeshekhorlousa.org/wp-content/uploads/2024/04/Riwo.jpg
END:VEVENT
END:VCALENDAR