BEGIN:VCALENDAR
VERSION:2.0
PRODID:-//Yeshe Khorlo USA - ECPv6.15.20//NONSGML v1.0//EN
CALSCALE:GREGORIAN
METHOD:PUBLISH
X-ORIGINAL-URL:https://yeshekhorlousa.org
X-WR-CALDESC:Events for Yeshe Khorlo USA
REFRESH-INTERVAL;VALUE=DURATION:PT1H
X-Robots-Tag:noindex
X-PUBLISHED-TTL:PT1H
BEGIN:VTIMEZONE
TZID:America/Chicago
BEGIN:DAYLIGHT
TZOFFSETFROM:-0600
TZOFFSETTO:-0500
TZNAME:CDT
DTSTART:20250309T080000
END:DAYLIGHT
BEGIN:STANDARD
TZOFFSETFROM:-0500
TZOFFSETTO:-0600
TZNAME:CST
DTSTART:20251102T070000
END:STANDARD
BEGIN:DAYLIGHT
TZOFFSETFROM:-0600
TZOFFSETTO:-0500
TZNAME:CDT
DTSTART:20260308T080000
END:DAYLIGHT
BEGIN:STANDARD
TZOFFSETFROM:-0500
TZOFFSETTO:-0600
TZNAME:CST
DTSTART:20261101T070000
END:STANDARD
BEGIN:DAYLIGHT
TZOFFSETFROM:-0600
TZOFFSETTO:-0500
TZNAME:CDT
DTSTART:20270314T080000
END:DAYLIGHT
BEGIN:STANDARD
TZOFFSETFROM:-0500
TZOFFSETTO:-0600
TZNAME:CST
DTSTART:20271107T070000
END:STANDARD
END:VTIMEZONE
BEGIN:VEVENT
DTSTART;TZID=America/Chicago:20260313T180000
DTEND;TZID=America/Chicago:20260313T203000
DTSTAMP:20260423T183536
CREATED:20260308T163652Z
LAST-MODIFIED:20260308T163808Z
UID:4165-1773424800-1773433800@yeshekhorlousa.org
SUMMARY:Kurukulle Dakini Tsok
DESCRIPTION:Dakini Tsok is offered and celebrated on the 25th day of each lunar month in Vajrayana Buddhist traditions\, honoring the feminine energy of wisdom and compassion. Please bring food or beverage to share.
URL:https://yeshekhorlousa.org/event/kurukulle-dakini-tsok-2/
LOCATION:Chöying Dzong\, 2281-A Happy Day OL\, Crestone\, CO\, 81131\, United States
CATEGORIES:Dakini Tsok
ATTACH;FMTTYPE=image/jpeg:https://yeshekhorlousa.org/wp-content/uploads/2024/02/Buddha-Weekly-Kurukulla-beautiful-Buddhism.jpg
END:VEVENT
BEGIN:VEVENT
DTSTART;TZID=America/Chicago:20260318T100000
DTEND;TZID=America/Chicago:20260318T120000
DTSTAMP:20260423T183536
CREATED:20260308T171243Z
LAST-MODIFIED:20260308T171516Z
UID:4173-1773828000-1773835200@yeshekhorlousa.org
SUMMARY:New Moon Riwo Sangchö & Green Tara Practice
DESCRIPTION:Riwo Sangchö\, also known as the “Mountain of Burnt Offerings\,” is a profound Tantric Buddhist practice of offering fragrant smoke to purify negative energy\, remove obstacles\, cultivate generosity\, and create positive conditions for all beings. Afterwards\, we invite you to stay for Green Tara practice. The Green Tara sadhana uses visualization and mantra to help transform fear\, build inner confidence\, and cultivate compassion for ourselves and others. For centuries\, practitioners have turned to Green Tara meditation as a way to calm the mind\, overcome obstacles\, and awaken the natural qualities of courage\, wisdom\, and care within. No prior Buddhist background is needed. All are welcome to attend.
URL:https://yeshekhorlousa.org/event/new-moon-riwo-sangcho-and-green-tara-practice/
LOCATION:Chöying Dzong\, 2281-A Happy Day OL\, Crestone\, CO\, 81131\, United States
CATEGORIES:Green Tara,Riwo Sangcho
ATTACH;FMTTYPE=image/jpeg:https://yeshekhorlousa.org/wp-content/uploads/2025/08/riwo-sangcho.jpg
END:VEVENT
BEGIN:VEVENT
DTSTART;TZID=America/Chicago:20260328T180000
DTEND;TZID=America/Chicago:20260328T203000
DTSTAMP:20260423T183536
CREATED:20260308T165458Z
LAST-MODIFIED:20260308T171849Z
UID:4168-1774720800-1774729800@yeshekhorlousa.org
SUMMARY:Guru Tsok
DESCRIPTION:Celebrate Guru Day with us on the 10th day of the lunar month with a Vajrayana tsok feast\, including food\, singing\, and a group sadhana full of sound and celebration\, in honor of Guru Rinpoche. Please bring food or beverage to share.
URL:https://yeshekhorlousa.org/event/guru-tsok-2/
LOCATION:Chöying Dzong\, 2281-A Happy Day OL\, Crestone\, CO\, 81131\, United States
ATTACH;FMTTYPE=image/jpeg:https://yeshekhorlousa.org/wp-content/uploads/2026/03/399871513_1247069002798061_829344591077209824_n-733x1024-1.jpg
END:VEVENT
END:VCALENDAR